BEGIN:VCALENDAR
VERSION:2.0
PRODID:-//Sri Sharada Public School - ECPv6.15.20//NONSGML v1.0//EN
CALSCALE:GREGORIAN
METHOD:PUBLISH
X-ORIGINAL-URL:https://www.srisharadaschoolmysore.com
X-WR-CALDESC:Events for Sri Sharada Public School
REFRESH-INTERVAL;VALUE=DURATION:PT1H
X-Robots-Tag:noindex
X-PUBLISHED-TTL:PT1H
BEGIN:VTIMEZONE
TZID:UTC
BEGIN:STANDARD
TZOFFSETFROM:+0000
TZOFFSETTO:+0000
TZNAME:UTC
DTSTART:20240101T000000
END:STANDARD
END:VTIMEZONE
BEGIN:VEVENT
DTSTART;VALUE=DATE:20251225
DTEND;VALUE=DATE:20251226
DTSTAMP:20260424T045732
CREATED:20250804T091631Z
LAST-MODIFIED:20250804T105210Z
UID:5364-1766620800-1766707199@www.srisharadaschoolmysore.com
SUMMARY:Christmas Holiday
DESCRIPTION:
URL:https://www.srisharadaschoolmysore.com/event/christmas-holiday/
CATEGORIES:School Calendar
END:VEVENT
END:VCALENDAR