BEGIN:VCALENDAR
VERSION:2.0
PRODID:-//Sri Sharada Public School - ECPv6.15.20//NONSGML v1.0//EN
CALSCALE:GREGORIAN
METHOD:PUBLISH
X-WR-CALNAME:Sri Sharada Public School
X-ORIGINAL-URL:https://www.srisharadaschoolmysore.com
X-WR-CALDESC:Events for Sri Sharada Public School
REFRESH-INTERVAL;VALUE=DURATION:PT1H
X-Robots-Tag:noindex
X-PUBLISHED-TTL:PT1H
BEGIN:VTIMEZONE
TZID:UTC
BEGIN:STANDARD
TZOFFSETFROM:+0000
TZOFFSETTO:+0000
TZNAME:UTC
DTSTART:20250101T000000
END:STANDARD
END:VTIMEZONE
BEGIN:VEVENT
DTSTART;VALUE=DATE:20260117
DTEND;VALUE=DATE:20260118
DTSTAMP:20260424T062241
CREATED:20250804T091647Z
LAST-MODIFIED:20250804T104757Z
UID:5370-1768608000-1768694399@www.srisharadaschoolmysore.com
SUMMARY:Gr 9 Preparatory 1 and Gr 10 Preparatory 2 commences
DESCRIPTION:
URL:https://www.srisharadaschoolmysore.com/event/gr-9-preparatory-1-and-gr-10-preparatory-2-commences/
CATEGORIES:School Calendar
END:VEVENT
END:VCALENDAR