BEGIN:VCALENDAR
VERSION:2.0
PRODID:-//Sri Sharada Public School - ECPv6.15.20//NONSGML v1.0//EN
CALSCALE:GREGORIAN
METHOD:PUBLISH
X-WR-CALNAME:Sri Sharada Public School
X-ORIGINAL-URL:https://www.srisharadaschoolmysore.com
X-WR-CALDESC:Events for Sri Sharada Public School
REFRESH-INTERVAL;VALUE=DURATION:PT1H
X-Robots-Tag:noindex
X-PUBLISHED-TTL:PT1H
BEGIN:VTIMEZONE
TZID:UTC
BEGIN:STANDARD
TZOFFSETFROM:+0000
TZOFFSETTO:+0000
TZNAME:UTC
DTSTART:20240101T000000
END:STANDARD
END:VTIMEZONE
BEGIN:VEVENT
DTSTART;VALUE=DATE:20260406
DTEND;VALUE=DATE:20260407
DTSTAMP:20260423T204126
CREATED:20250804T091841Z
LAST-MODIFIED:20250804T092011Z
UID:5386-1775433600-1775519999@www.srisharadaschoolmysore.com
SUMMARY:Summer Vacation Commences
DESCRIPTION:
URL:https://www.srisharadaschoolmysore.com/event/summer-vacation-commences-2/
CATEGORIES:School Calendar
END:VEVENT
BEGIN:VEVENT
DTSTART;VALUE=DATE:20260404
DTEND;VALUE=DATE:20260405
DTSTAMP:20260423T204126
CREATED:20250804T091841Z
LAST-MODIFIED:20250804T092020Z
UID:5385-1775260800-1775347199@www.srisharadaschoolmysore.com
SUMMARY:Result Announcement
DESCRIPTION:
URL:https://www.srisharadaschoolmysore.com/event/result-announcement/
CATEGORIES:School Calendar
END:VEVENT
BEGIN:VEVENT
DTSTART;VALUE=DATE:20260403
DTEND;VALUE=DATE:20260404
DTSTAMP:20260423T204126
CREATED:20250804T091841Z
LAST-MODIFIED:20250804T092026Z
UID:5384-1775174400-1775260799@www.srisharadaschoolmysore.com
SUMMARY:Good Friday
DESCRIPTION:
URL:https://www.srisharadaschoolmysore.com/event/good-friday/
CATEGORIES:School Calendar
END:VEVENT
BEGIN:VEVENT
DTSTART;VALUE=DATE:20260320
DTEND;VALUE=DATE:20260321
DTSTAMP:20260423T204126
CREATED:20250804T091841Z
LAST-MODIFIED:20250804T092034Z
UID:5383-1773964800-1774051199@www.srisharadaschoolmysore.com
SUMMARY:Ramzan Holiday
DESCRIPTION:
URL:https://www.srisharadaschoolmysore.com/event/ramzan-holiday/
CATEGORIES:School Calendar
END:VEVENT
BEGIN:VEVENT
DTSTART;VALUE=DATE:20260319
DTEND;VALUE=DATE:20260320
DTSTAMP:20260423T204126
CREATED:20250804T091829Z
LAST-MODIFIED:20250804T092102Z
UID:5382-1773878400-1773964799@www.srisharadaschoolmysore.com
SUMMARY:Ugadi Holiday
DESCRIPTION:
URL:https://www.srisharadaschoolmysore.com/event/ugadi-holiday/
CATEGORIES:School Calendar
END:VEVENT
BEGIN:VEVENT
DTSTART;VALUE=DATE:20260318
DTEND;VALUE=DATE:20260319
DTSTAMP:20260423T204126
CREATED:20250804T091829Z
LAST-MODIFIED:20250804T092107Z
UID:5381-1773792000-1773878399@www.srisharadaschoolmysore.com
SUMMARY:SA 2 /Annual Exams Concludes
DESCRIPTION:
URL:https://www.srisharadaschoolmysore.com/event/sa-2-annual-exams-concludes/
CATEGORIES:School Calendar
END:VEVENT
BEGIN:VEVENT
DTSTART;VALUE=DATE:20260306
DTEND;VALUE=DATE:20260307
DTSTAMP:20260423T204126
CREATED:20250804T091828Z
LAST-MODIFIED:20250804T092112Z
UID:5380-1772755200-1772841599@www.srisharadaschoolmysore.com
SUMMARY:SA 2/Annual Exam Commences
DESCRIPTION:
URL:https://www.srisharadaschoolmysore.com/event/sa-2-annual-exam-commences/
CATEGORIES:School Calendar
END:VEVENT
BEGIN:VEVENT
DTSTART;VALUE=DATE:20260228
DTEND;VALUE=DATE:20260301
DTSTAMP:20260423T204126
CREATED:20250804T091828Z
LAST-MODIFIED:20250804T092118Z
UID:5379-1772236800-1772323199@www.srisharadaschoolmysore.com
SUMMARY:National Science Day + Bagless Day
DESCRIPTION:
URL:https://www.srisharadaschoolmysore.com/event/national-science-day-bagless-day/
CATEGORIES:School Calendar
END:VEVENT
BEGIN:VEVENT
DTSTART;VALUE=DATE:20260227
DTEND;VALUE=DATE:20260228
DTSTAMP:20260423T204126
CREATED:20250804T091827Z
LAST-MODIFIED:20250804T092147Z
UID:5378-1772150400-1772236799@www.srisharadaschoolmysore.com
SUMMARY:Graduation day ( Prep section)
DESCRIPTION:
URL:https://www.srisharadaschoolmysore.com/event/graduation-day-prep-section/
CATEGORIES:School Calendar
END:VEVENT
BEGIN:VEVENT
DTSTART;VALUE=DATE:20260218
DTEND;VALUE=DATE:20260219
DTSTAMP:20260423T204126
CREATED:20250804T091703Z
LAST-MODIFIED:20250804T092152Z
UID:5377-1771372800-1771459199@www.srisharadaschoolmysore.com
SUMMARY:CCA Awards Ceremony - 2
DESCRIPTION:
URL:https://www.srisharadaschoolmysore.com/event/cca-awards-ceremony-2-2/
CATEGORIES:School Calendar
END:VEVENT
BEGIN:VEVENT
DTSTART;VALUE=DATE:20260215
DTEND;VALUE=DATE:20260216
DTSTAMP:20260423T204126
CREATED:20250804T091703Z
LAST-MODIFIED:20250804T092201Z
UID:5376-1771113600-1771199999@www.srisharadaschoolmysore.com
SUMMARY:Mahashivaratri
DESCRIPTION:
URL:https://www.srisharadaschoolmysore.com/event/mahashivaratri/
CATEGORIES:School Calendar
END:VEVENT
BEGIN:VEVENT
DTSTART;VALUE=DATE:20260204
DTEND;VALUE=DATE:20260205
DTSTAMP:20260423T204126
CREATED:20250804T091703Z
LAST-MODIFIED:20250804T092208Z
UID:5375-1770163200-1770249599@www.srisharadaschoolmysore.com
SUMMARY:Annual Examination - Grade 9
DESCRIPTION:
URL:https://www.srisharadaschoolmysore.com/event/annual-examination-grade-9/
CATEGORIES:School Calendar
END:VEVENT
BEGIN:VEVENT
DTSTART;VALUE=DATE:20260202
DTEND;VALUE=DATE:20260203
DTSTAMP:20260423T204126
CREATED:20250804T091702Z
LAST-MODIFIED:20250804T092215Z
UID:5374-1769990400-1770076799@www.srisharadaschoolmysore.com
SUMMARY:Medical Checkup
DESCRIPTION:
URL:https://www.srisharadaschoolmysore.com/event/medical-checkup-2/
CATEGORIES:School Calendar
END:VEVENT
BEGIN:VEVENT
DTSTART;VALUE=DATE:20260130
DTEND;VALUE=DATE:20260131
DTSTAMP:20260423T204126
CREATED:20250804T091702Z
LAST-MODIFIED:20250804T092221Z
UID:5373-1769731200-1769817599@www.srisharadaschoolmysore.com
SUMMARY:Martyr's Day
DESCRIPTION:
URL:https://www.srisharadaschoolmysore.com/event/martyrs-day-2/
CATEGORIES:School Calendar
END:VEVENT
BEGIN:VEVENT
DTSTART;VALUE=DATE:20260128
DTEND;VALUE=DATE:20260129
DTSTAMP:20260423T204126
CREATED:20250804T091647Z
LAST-MODIFIED:20250804T092232Z
UID:5372-1769558400-1769644799@www.srisharadaschoolmysore.com
SUMMARY:CCA 4 (Prep - Grade 10)
DESCRIPTION:
URL:https://www.srisharadaschoolmysore.com/event/cca-4-prep-grade-10/
CATEGORIES:School Calendar
END:VEVENT
BEGIN:VEVENT
DTSTART;VALUE=DATE:20260126
DTEND;VALUE=DATE:20260127
DTSTAMP:20260423T204126
CREATED:20250804T091647Z
LAST-MODIFIED:20250804T104746Z
UID:5371-1769385600-1769471999@www.srisharadaschoolmysore.com
SUMMARY:Republic Day Celebration
DESCRIPTION:
URL:https://www.srisharadaschoolmysore.com/event/republic-day-celebration/
CATEGORIES:School Calendar
END:VEVENT
BEGIN:VEVENT
DTSTART;VALUE=DATE:20260117
DTEND;VALUE=DATE:20260118
DTSTAMP:20260423T204126
CREATED:20250804T091647Z
LAST-MODIFIED:20250804T104757Z
UID:5370-1768608000-1768694399@www.srisharadaschoolmysore.com
SUMMARY:Gr 9 Preparatory 1 and Gr 10 Preparatory 2 commences
DESCRIPTION:
URL:https://www.srisharadaschoolmysore.com/event/gr-9-preparatory-1-and-gr-10-preparatory-2-commences/
CATEGORIES:School Calendar
END:VEVENT
BEGIN:VEVENT
DTSTART;VALUE=DATE:20260114
DTEND;VALUE=DATE:20260115
DTSTAMP:20260423T204126
CREATED:20250804T091647Z
LAST-MODIFIED:20250804T104800Z
UID:5369-1768348800-1768435199@www.srisharadaschoolmysore.com
SUMMARY:Sankranthi (Holiday)
DESCRIPTION:
URL:https://www.srisharadaschoolmysore.com/event/sankranthi-holiday-2/
CATEGORIES:School Calendar
END:VEVENT
BEGIN:VEVENT
DTSTART;VALUE=DATE:20260112
DTEND;VALUE=DATE:20260113
DTSTAMP:20260423T204126
CREATED:20250804T091646Z
LAST-MODIFIED:20250804T104805Z
UID:5368-1768176000-1768262399@www.srisharadaschoolmysore.com
SUMMARY:National Youth Day
DESCRIPTION:
URL:https://www.srisharadaschoolmysore.com/event/national-youth-day-2/
CATEGORIES:School Calendar
END:VEVENT
BEGIN:VEVENT
DTSTART;VALUE=DATE:20260106
DTEND;VALUE=DATE:20260107
DTSTAMP:20260423T204126
CREATED:20250804T091631Z
LAST-MODIFIED:20250804T104813Z
UID:5367-1767657600-1767743999@www.srisharadaschoolmysore.com
SUMMARY:Cartoon day (Prep section)
DESCRIPTION:
URL:https://www.srisharadaschoolmysore.com/event/cartoon-day-prep-section/
CATEGORIES:School Calendar
END:VEVENT
BEGIN:VEVENT
DTSTART;VALUE=DATE:20260102
DTEND;VALUE=DATE:20260103
DTSTAMP:20260423T204126
CREATED:20250804T091631Z
LAST-MODIFIED:20250804T105146Z
UID:5366-1767312000-1767398399@www.srisharadaschoolmysore.com
SUMMARY:Grade 10 Preparatory 1 Commences
DESCRIPTION:
URL:https://www.srisharadaschoolmysore.com/event/grade-10-preparatory-1-commences/
CATEGORIES:School Calendar
END:VEVENT
BEGIN:VEVENT
DTSTART;VALUE=DATE:20251226
DTEND;VALUE=DATE:20251227
DTSTAMP:20260423T204126
CREATED:20250804T091631Z
LAST-MODIFIED:20250804T105155Z
UID:5365-1766707200-1766793599@www.srisharadaschoolmysore.com
SUMMARY:Winter vacation commences from 26th to 1st Jan (Only for students)
DESCRIPTION:
URL:https://www.srisharadaschoolmysore.com/event/winter-vacation-commences-from-26th-to-1st-jan-only-for-students/
CATEGORIES:School Calendar
END:VEVENT
BEGIN:VEVENT
DTSTART;VALUE=DATE:20251225
DTEND;VALUE=DATE:20251226
DTSTAMP:20260423T204126
CREATED:20250804T091631Z
LAST-MODIFIED:20250804T105210Z
UID:5364-1766620800-1766707199@www.srisharadaschoolmysore.com
SUMMARY:Christmas Holiday
DESCRIPTION:
URL:https://www.srisharadaschoolmysore.com/event/christmas-holiday/
CATEGORIES:School Calendar
END:VEVENT
BEGIN:VEVENT
DTSTART;VALUE=DATE:20251224
DTEND;VALUE=DATE:20251225
DTSTAMP:20260423T204126
CREATED:20250804T091630Z
LAST-MODIFIED:20250804T105217Z
UID:5363-1766534400-1766620799@www.srisharadaschoolmysore.com
SUMMARY:OPEN FEST
DESCRIPTION:
URL:https://www.srisharadaschoolmysore.com/event/open-fest/
CATEGORIES:School Calendar
END:VEVENT
BEGIN:VEVENT
DTSTART;VALUE=DATE:20251222
DTEND;VALUE=DATE:20251223
DTSTAMP:20260423T204126
CREATED:20250804T091617Z
LAST-MODIFIED:20250804T105223Z
UID:5362-1766361600-1766447999@www.srisharadaschoolmysore.com
SUMMARY:National Mathematics Day
DESCRIPTION:
URL:https://www.srisharadaschoolmysore.com/event/national-mathematics-day/
CATEGORIES:School Calendar
END:VEVENT
BEGIN:VEVENT
DTSTART;VALUE=DATE:20251213
DTEND;VALUE=DATE:20251214
DTSTAMP:20260423T204126
CREATED:20250804T091617Z
LAST-MODIFIED:20250804T105229Z
UID:5361-1765584000-1765670399@www.srisharadaschoolmysore.com
SUMMARY:PTM
DESCRIPTION:
URL:https://www.srisharadaschoolmysore.com/event/ptm-2/
CATEGORIES:School Calendar
END:VEVENT
BEGIN:VEVENT
DTSTART;VALUE=DATE:20251212
DTEND;VALUE=DATE:20251213
DTSTAMP:20260423T204126
CREATED:20250804T091617Z
LAST-MODIFIED:20250804T105239Z
UID:5360-1765497600-1765583999@www.srisharadaschoolmysore.com
SUMMARY:Grade 9 Syllabus completion
DESCRIPTION:
URL:https://www.srisharadaschoolmysore.com/event/grade-9-syllabus-completion/
CATEGORIES:School Calendar
END:VEVENT
BEGIN:VEVENT
DTSTART;VALUE=DATE:20251205
DTEND;VALUE=DATE:20251206
DTSTAMP:20260423T204126
CREATED:20250804T091616Z
LAST-MODIFIED:20250804T105355Z
UID:5359-1764892800-1764979199@www.srisharadaschoolmysore.com
SUMMARY:Annual Sports Day
DESCRIPTION:
URL:https://www.srisharadaschoolmysore.com/event/annual-sports-day/
CATEGORIES:School Calendar
END:VEVENT
BEGIN:VEVENT
DTSTART;VALUE=DATE:20251201
DTEND;VALUE=DATE:20251202
DTSTAMP:20260423T204126
CREATED:20250804T091616Z
LAST-MODIFIED:20250804T105405Z
UID:5358-1764547200-1764633599@www.srisharadaschoolmysore.com
SUMMARY:FA 4/ PA 2 (PREP to Grade 10) Concludes; Math Week Begins (Focus on Open Fest)
DESCRIPTION:
URL:https://www.srisharadaschoolmysore.com/event/fa-4-pa-2-prep-to-grade-10-concludes-math-week-begins-focus-on-open-fest/
CATEGORIES:School Calendar
END:VEVENT
BEGIN:VEVENT
DTSTART;VALUE=DATE:20251126
DTEND;VALUE=DATE:20251127
DTSTAMP:20260423T204126
CREATED:20250804T091603Z
LAST-MODIFIED:20250804T105410Z
UID:5357-1764115200-1764201599@www.srisharadaschoolmysore.com
SUMMARY:Constitution Day
DESCRIPTION:
URL:https://www.srisharadaschoolmysore.com/event/constitution-day/
CATEGORIES:School Calendar
END:VEVENT
END:VCALENDAR