BEGIN:VCALENDAR
VERSION:2.0
PRODID:-//Sri Sharada Public School - ECPv6.15.20//NONSGML v1.0//EN
CALSCALE:GREGORIAN
METHOD:PUBLISH
X-WR-CALNAME:Sri Sharada Public School
X-ORIGINAL-URL:https://www.srisharadaschoolmysore.com
X-WR-CALDESC:Events for Sri Sharada Public School
REFRESH-INTERVAL;VALUE=DURATION:PT1H
X-Robots-Tag:noindex
X-PUBLISHED-TTL:PT1H
BEGIN:VTIMEZONE
TZID:UTC
BEGIN:STANDARD
TZOFFSETFROM:+0000
TZOFFSETTO:+0000
TZNAME:UTC
DTSTART:20240101T000000
END:STANDARD
END:VTIMEZONE
BEGIN:VEVENT
DTSTART;VALUE=DATE:20251031
DTEND;VALUE=DATE:20251101
DTSTAMP:20260424T065640
CREATED:20250804T091546Z
LAST-MODIFIED:20250804T105558Z
UID:5349-1761868800-1761955199@www.srisharadaschoolmysore.com
SUMMARY:National Unity Day
DESCRIPTION:
URL:https://www.srisharadaschoolmysore.com/event/national-unity-day/
CATEGORIES:School Calendar
END:VEVENT
BEGIN:VEVENT
DTSTART;VALUE=DATE:20251025
DTEND;VALUE=DATE:20251026
DTSTAMP:20260424T065640
CREATED:20250804T091545Z
LAST-MODIFIED:20250804T105606Z
UID:5348-1761350400-1761436799@www.srisharadaschoolmysore.com
SUMMARY:Bagless Day
DESCRIPTION:
URL:https://www.srisharadaschoolmysore.com/event/bagless-day-2/
CATEGORIES:School Calendar
END:VEVENT
BEGIN:VEVENT
DTSTART;VALUE=DATE:20251022
DTEND;VALUE=DATE:20251023
DTSTAMP:20260424T065640
CREATED:20250804T091437Z
LAST-MODIFIED:20250804T105612Z
UID:5347-1761091200-1761177599@www.srisharadaschoolmysore.com
SUMMARY:Balipadyami Holiday
DESCRIPTION:
URL:https://www.srisharadaschoolmysore.com/event/balipadyami-holiday/
CATEGORIES:School Calendar
END:VEVENT
BEGIN:VEVENT
DTSTART;VALUE=DATE:20251021
DTEND;VALUE=DATE:20251022
DTSTAMP:20260424T065640
CREATED:20250804T091437Z
LAST-MODIFIED:20250804T110144Z
UID:5346-1761004800-1761091199@www.srisharadaschoolmysore.com
SUMMARY:Amavasya Holiday
DESCRIPTION:
URL:https://www.srisharadaschoolmysore.com/event/amavasya-holiday/
CATEGORIES:School Calendar
END:VEVENT
BEGIN:VEVENT
DTSTART;VALUE=DATE:20251020
DTEND;VALUE=DATE:20251021
DTSTAMP:20260424T065640
CREATED:20250804T091437Z
LAST-MODIFIED:20250804T110149Z
UID:5345-1760918400-1761004799@www.srisharadaschoolmysore.com
SUMMARY:Naraka Chaturdashi Holiday
DESCRIPTION:
URL:https://www.srisharadaschoolmysore.com/event/naraka-chaturdashi-holiday/
CATEGORIES:School Calendar
END:VEVENT
BEGIN:VEVENT
DTSTART;VALUE=DATE:20251018
DTEND;VALUE=DATE:20251019
DTSTAMP:20260424T065640
CREATED:20250804T091437Z
LAST-MODIFIED:20250804T110154Z
UID:5344-1760745600-1760831999@www.srisharadaschoolmysore.com
SUMMARY:Grand parents day (Prep section)
DESCRIPTION:
URL:https://www.srisharadaschoolmysore.com/event/grand-parents-day-prep-section/
CATEGORIES:School Calendar
END:VEVENT
BEGIN:VEVENT
DTSTART;VALUE=DATE:20251017
DTEND;VALUE=DATE:20251018
DTSTAMP:20260424T065640
CREATED:20250804T091436Z
LAST-MODIFIED:20250804T110201Z
UID:5343-1760659200-1760745599@www.srisharadaschoolmysore.com
SUMMARY:FA 3 Concludes (Activity based)
DESCRIPTION:
URL:https://www.srisharadaschoolmysore.com/event/fa-3-concludes-activity-based/
CATEGORIES:School Calendar
END:VEVENT
BEGIN:VEVENT
DTSTART;VALUE=DATE:20251013
DTEND;VALUE=DATE:20251014
DTSTAMP:20260424T065640
CREATED:20250804T091422Z
LAST-MODIFIED:20250804T110207Z
UID:5342-1760313600-1760399999@www.srisharadaschoolmysore.com
SUMMARY:FA 3 Commences (Activity based)
DESCRIPTION:
URL:https://www.srisharadaschoolmysore.com/event/fa-3-commences-activity-based/
CATEGORIES:School Calendar
END:VEVENT
BEGIN:VEVENT
DTSTART;VALUE=DATE:20251011
DTEND;VALUE=DATE:20251012
DTSTAMP:20260424T065640
CREATED:20250804T091422Z
LAST-MODIFIED:20250804T110212Z
UID:5341-1760140800-1760227199@www.srisharadaschoolmysore.com
SUMMARY:PTM
DESCRIPTION:
URL:https://www.srisharadaschoolmysore.com/event/ptm/
CATEGORIES:School Calendar
END:VEVENT
BEGIN:VEVENT
DTSTART;VALUE=DATE:20251007
DTEND;VALUE=DATE:20251008
DTSTAMP:20260424T065640
CREATED:20250804T091422Z
LAST-MODIFIED:20250804T110217Z
UID:5340-1759795200-1759881599@www.srisharadaschoolmysore.com
SUMMARY:Valmiki Jayanthi Holiday
DESCRIPTION:
URL:https://www.srisharadaschoolmysore.com/event/valmiki-jayanthi-holiday/
CATEGORIES:School Calendar
END:VEVENT
BEGIN:VEVENT
DTSTART;VALUE=DATE:20251003
DTEND;VALUE=DATE:20251004
DTSTAMP:20260424T065640
CREATED:20250804T091422Z
LAST-MODIFIED:20250804T110310Z
UID:5339-1759449600-1759535999@www.srisharadaschoolmysore.com
SUMMARY:School Reopens After Dasara Vacation
DESCRIPTION:
URL:https://www.srisharadaschoolmysore.com/event/school-reopens-after-dasara-vacation/
CATEGORIES:School Calendar
END:VEVENT
BEGIN:VEVENT
DTSTART;VALUE=DATE:20251002
DTEND;VALUE=DATE:20251003
DTSTAMP:20260424T065640
CREATED:20250804T091421Z
LAST-MODIFIED:20250804T110320Z
UID:5338-1759363200-1759449599@www.srisharadaschoolmysore.com
SUMMARY:Gandhi Jayanthi
DESCRIPTION:
URL:https://www.srisharadaschoolmysore.com/event/gandhi-jayanthi/
CATEGORIES:School Calendar
END:VEVENT
BEGIN:VEVENT
DTSTART;VALUE=DATE:20250922
DTEND;VALUE=DATE:20250923
DTSTAMP:20260424T065640
CREATED:20250804T091406Z
LAST-MODIFIED:20250804T110402Z
UID:5337-1758499200-1758585599@www.srisharadaschoolmysore.com
SUMMARY:Dasara Vacation Begins
DESCRIPTION:
URL:https://www.srisharadaschoolmysore.com/event/dasara-vacation-begins/
CATEGORIES:School Calendar
END:VEVENT
BEGIN:VEVENT
DTSTART;VALUE=DATE:20250920
DTEND;VALUE=DATE:20250921
DTSTAMP:20260424T065640
CREATED:20250804T091406Z
LAST-MODIFIED:20250804T110516Z
UID:5336-1758326400-1758412799@www.srisharadaschoolmysore.com
SUMMARY:Gombe Habba
DESCRIPTION:
URL:https://www.srisharadaschoolmysore.com/event/gombe-habba/
CATEGORIES:School Calendar
END:VEVENT
BEGIN:VEVENT
DTSTART;VALUE=DATE:20250918
DTEND;VALUE=DATE:20250919
DTSTAMP:20260424T065640
CREATED:20250804T091406Z
LAST-MODIFIED:20250804T110556Z
UID:5335-1758153600-1758239999@www.srisharadaschoolmysore.com
SUMMARY:SA1/Midterm Exam Concludes
DESCRIPTION:
URL:https://www.srisharadaschoolmysore.com/event/sa1-midterm-exam-concludes/
CATEGORIES:School Calendar
END:VEVENT
BEGIN:VEVENT
DTSTART;VALUE=DATE:20250908
DTEND;VALUE=DATE:20250909
DTSTAMP:20260424T065640
CREATED:20250804T091406Z
LAST-MODIFIED:20250804T110824Z
UID:5334-1757289600-1757375999@www.srisharadaschoolmysore.com
SUMMARY:SA1/Midterm Exam Commences
DESCRIPTION:
URL:https://www.srisharadaschoolmysore.com/event/sa1-midterm-exam-commences/
CATEGORIES:School Calendar
END:VEVENT
BEGIN:VEVENT
DTSTART;VALUE=DATE:20250906
DTEND;VALUE=DATE:20250907
DTSTAMP:20260424T065640
CREATED:20250804T091405Z
LAST-MODIFIED:20250804T110831Z
UID:5333-1757116800-1757203199@www.srisharadaschoolmysore.com
SUMMARY:Study Holiday
DESCRIPTION:
URL:https://www.srisharadaschoolmysore.com/event/study-holiday/
CATEGORIES:School Calendar
END:VEVENT
BEGIN:VEVENT
DTSTART;VALUE=DATE:20250905
DTEND;VALUE=DATE:20250906
DTSTAMP:20260424T065640
CREATED:20250804T091352Z
LAST-MODIFIED:20250804T110836Z
UID:5332-1757030400-1757116799@www.srisharadaschoolmysore.com
SUMMARY:Id Milad Holiday + Teachers' Day
DESCRIPTION:
URL:https://www.srisharadaschoolmysore.com/event/id-milad-holiday-teachers-day/
CATEGORIES:School Calendar
END:VEVENT
BEGIN:VEVENT
DTSTART;VALUE=DATE:20250904
DTEND;VALUE=DATE:20250905
DTSTAMP:20260424T065640
CREATED:20250804T091352Z
LAST-MODIFIED:20250804T110842Z
UID:5331-1756944000-1757030399@www.srisharadaschoolmysore.com
SUMMARY:Hindi Diwas Celebration
DESCRIPTION:
URL:https://www.srisharadaschoolmysore.com/event/hindi-diwas-celebration/
CATEGORIES:School Calendar
END:VEVENT
BEGIN:VEVENT
DTSTART;VALUE=DATE:20250901
DTEND;VALUE=DATE:20250902
DTSTAMP:20260424T065640
CREATED:20250804T091352Z
LAST-MODIFIED:20250804T110848Z
UID:5330-1756684800-1756771199@www.srisharadaschoolmysore.com
SUMMARY:Group Photo Session
DESCRIPTION:
URL:https://www.srisharadaschoolmysore.com/event/group-photo-session/
CATEGORIES:School Calendar
END:VEVENT
BEGIN:VEVENT
DTSTART;VALUE=DATE:20250830
DTEND;VALUE=DATE:20250831
DTSTAMP:20260424T065640
CREATED:20250804T091351Z
LAST-MODIFIED:20250804T110930Z
UID:5329-1756512000-1756598399@www.srisharadaschoolmysore.com
SUMMARY:CCA Award Ceremony - I
DESCRIPTION:
URL:https://www.srisharadaschoolmysore.com/event/cca-award-ceremony-i/
CATEGORIES:School Calendar
END:VEVENT
BEGIN:VEVENT
DTSTART;VALUE=DATE:20250829
DTEND;VALUE=DATE:20250830
DTSTAMP:20260424T065640
CREATED:20250804T091351Z
LAST-MODIFIED:20250804T111016Z
UID:5328-1756425600-1756511999@www.srisharadaschoolmysore.com
SUMMARY:National Sports Day
DESCRIPTION:
URL:https://www.srisharadaschoolmysore.com/event/national-sports-day/
CATEGORIES:School Calendar
END:VEVENT
BEGIN:VEVENT
DTSTART;VALUE=DATE:20250827
DTEND;VALUE=DATE:20250828
DTSTAMP:20260424T065640
CREATED:20250804T091336Z
LAST-MODIFIED:20250804T111021Z
UID:5327-1756252800-1756339199@www.srisharadaschoolmysore.com
SUMMARY:Ganesh Festival Holiday
DESCRIPTION:
URL:https://www.srisharadaschoolmysore.com/event/ganesh-festival-holiday/
CATEGORIES:School Calendar
END:VEVENT
BEGIN:VEVENT
DTSTART;VALUE=DATE:20250826
DTEND;VALUE=DATE:20250827
DTSTAMP:20260424T065640
CREATED:20250804T091336Z
LAST-MODIFIED:20250804T111105Z
UID:5326-1756166400-1756252799@www.srisharadaschoolmysore.com
SUMMARY:Gowri Festival Holiday
DESCRIPTION:
URL:https://www.srisharadaschoolmysore.com/event/gowri-festival-holiday/
CATEGORIES:School Calendar
END:VEVENT
BEGIN:VEVENT
DTSTART;VALUE=DATE:20250823
DTEND;VALUE=DATE:20250824
DTSTAMP:20260424T065640
CREATED:20250804T091336Z
LAST-MODIFIED:20250804T111110Z
UID:5325-1755907200-1755993599@www.srisharadaschoolmysore.com
SUMMARY:Ganesh Festival Celebration + Bagless Day + PTM (Prep)
DESCRIPTION:
URL:https://www.srisharadaschoolmysore.com/event/ganesh-festival-celebration-bagless-day-ptm-prep/
CATEGORIES:School Calendar
END:VEVENT
BEGIN:VEVENT
DTSTART;VALUE=DATE:20250819
DTEND;VALUE=DATE:20250820
DTSTAMP:20260424T065640
CREATED:20250804T091336Z
LAST-MODIFIED:20250804T111116Z
UID:5324-1755561600-1755647999@www.srisharadaschoolmysore.com
SUMMARY:FA-2 Concludes
DESCRIPTION:
URL:https://www.srisharadaschoolmysore.com/event/fa-2-concludes/
CATEGORIES:School Calendar
END:VEVENT
BEGIN:VEVENT
DTSTART;VALUE=DATE:20250816
DTEND;VALUE=DATE:20250817
DTSTAMP:20260424T065640
CREATED:20250804T091335Z
LAST-MODIFIED:20250804T111120Z
UID:5323-1755302400-1755388799@www.srisharadaschoolmysore.com
SUMMARY:Krishna Janmashtami Celebration
DESCRIPTION:
URL:https://www.srisharadaschoolmysore.com/event/krishna-janmashtami-celebration/
CATEGORIES:School Calendar
END:VEVENT
BEGIN:VEVENT
DTSTART;VALUE=DATE:20250815
DTEND;VALUE=DATE:20250816
DTSTAMP:20260424T065640
CREATED:20250804T091322Z
LAST-MODIFIED:20250804T111125Z
UID:5322-1755216000-1755302399@www.srisharadaschoolmysore.com
SUMMARY:Independence Day Celebration
DESCRIPTION:
URL:https://www.srisharadaschoolmysore.com/event/independence-day-celebration/
CATEGORIES:School Calendar
END:VEVENT
BEGIN:VEVENT
DTSTART;VALUE=DATE:20250811
DTEND;VALUE=DATE:20250812
DTSTAMP:20260424T065640
CREATED:20250804T091322Z
LAST-MODIFIED:20250804T111131Z
UID:5321-1754870400-1754956799@www.srisharadaschoolmysore.com
SUMMARY:FA-2 Commences (Prep – Pen & Paper/Grades 1-5 – Activity based)
DESCRIPTION:
URL:https://www.srisharadaschoolmysore.com/event/fa-2-commences-prep-pen-paper-grades-1-5-activity-based/
CATEGORIES:School Calendar
END:VEVENT
BEGIN:VEVENT
DTSTART;VALUE=DATE:20250808
DTEND;VALUE=DATE:20250809
DTSTAMP:20260424T065640
CREATED:20250804T091321Z
LAST-MODIFIED:20250804T111136Z
UID:5320-1754611200-1754697599@www.srisharadaschoolmysore.com
SUMMARY:Vara Mahalakshmi Holiday
DESCRIPTION:
URL:https://www.srisharadaschoolmysore.com/event/vara-mahalakshmi-holiday/
CATEGORIES:School Calendar
END:VEVENT
END:VCALENDAR