BEGIN:VCALENDAR
VERSION:2.0
PRODID:-//Sri Sharada Public School - ECPv6.15.20//NONSGML v1.0//EN
CALSCALE:GREGORIAN
METHOD:PUBLISH
X-ORIGINAL-URL:https://www.srisharadaschoolmysore.com
X-WR-CALDESC:Events for Sri Sharada Public School
REFRESH-INTERVAL;VALUE=DURATION:PT1H
X-Robots-Tag:noindex
X-PUBLISHED-TTL:PT1H
BEGIN:VTIMEZONE
TZID:UTC
BEGIN:STANDARD
TZOFFSETFROM:+0000
TZOFFSETTO:+0000
TZNAME:UTC
DTSTART:20240101T000000
END:STANDARD
END:VTIMEZONE
BEGIN:VEVENT
DTSTART;VALUE=DATE:20250725
DTEND;VALUE=DATE:20250726
DTSTAMP:20260424T090035
CREATED:20250804T091306Z
LAST-MODIFIED:20250804T111252Z
UID:5314-1753401600-1753487999@www.srisharadaschoolmysore.com
SUMMARY:Literature Week Concludes; Colours day (prep section)
DESCRIPTION:
URL:https://www.srisharadaschoolmysore.com/event/literature-week-concludes-colours-day-prep-section/
CATEGORIES:School Calendar
END:VEVENT
BEGIN:VEVENT
DTSTART;VALUE=DATE:20250721
DTEND;VALUE=DATE:20250722
DTSTAMP:20260424T090035
CREATED:20250804T091305Z
LAST-MODIFIED:20250804T111258Z
UID:5313-1753056000-1753142399@www.srisharadaschoolmysore.com
SUMMARY:Literature Week commences
DESCRIPTION:
URL:https://www.srisharadaschoolmysore.com/event/literature-week-commences/
CATEGORIES:School Calendar
END:VEVENT
BEGIN:VEVENT
DTSTART;VALUE=DATE:20250718
DTEND;VALUE=DATE:20250719
DTSTAMP:20260424T090035
CREATED:20250804T091252Z
LAST-MODIFIED:20250804T111303Z
UID:5312-1752796800-1752883199@www.srisharadaschoolmysore.com
SUMMARY:FA 1/PA-1 Concludes
DESCRIPTION:
URL:https://www.srisharadaschoolmysore.com/event/fa-1-pa-1-concludes/
CATEGORIES:School Calendar
END:VEVENT
BEGIN:VEVENT
DTSTART;VALUE=DATE:20250710
DTEND;VALUE=DATE:20250711
DTSTAMP:20260424T090035
CREATED:20250804T091252Z
LAST-MODIFIED:20250804T111343Z
UID:5311-1752105600-1752191999@www.srisharadaschoolmysore.com
SUMMARY:FA 1/PA-1 Commences
DESCRIPTION:
URL:https://www.srisharadaschoolmysore.com/event/fa-1-pa-1-commences/
CATEGORIES:School Calendar
END:VEVENT
BEGIN:VEVENT
DTSTART;VALUE=DATE:20250709
DTEND;VALUE=DATE:20250710
DTSTAMP:20260424T090035
CREATED:20250804T091252Z
LAST-MODIFIED:20250804T111504Z
UID:5310-1752019200-1752105599@www.srisharadaschoolmysore.com
SUMMARY:Sensorial day (Prep section)
DESCRIPTION:
URL:https://www.srisharadaschoolmysore.com/event/sensorial-day-prep-section/
CATEGORIES:School Calendar
END:VEVENT
BEGIN:VEVENT
DTSTART;VALUE=DATE:20250702
DTEND;VALUE=DATE:20250703
DTSTAMP:20260424T090035
CREATED:20250804T091252Z
LAST-MODIFIED:20250804T111510Z
UID:5309-1751414400-1751500799@www.srisharadaschoolmysore.com
SUMMARY:Measurement of Height and Weight
DESCRIPTION:
URL:https://www.srisharadaschoolmysore.com/event/measurement-of-height-and-weight/
CATEGORIES:School Calendar
END:VEVENT
BEGIN:VEVENT
DTSTART;VALUE=DATE:20250628
DTEND;VALUE=DATE:20250629
DTSTAMP:20260424T090035
CREATED:20250804T091251Z
LAST-MODIFIED:20250804T111516Z
UID:5308-1751068800-1751155199@www.srisharadaschoolmysore.com
SUMMARY:Bagless Day
DESCRIPTION:
URL:https://www.srisharadaschoolmysore.com/event/bagless-day/
CATEGORIES:School Calendar
END:VEVENT
BEGIN:VEVENT
DTSTART;VALUE=DATE:20250627
DTEND;VALUE=DATE:20250628
DTSTAMP:20260424T090035
CREATED:20250804T091236Z
LAST-MODIFIED:20250804T111521Z
UID:5307-1750982400-1751068799@www.srisharadaschoolmysore.com
SUMMARY:CCA 1 Prep section
DESCRIPTION:
URL:https://www.srisharadaschoolmysore.com/event/cca-1-prep-section/
CATEGORIES:School Calendar
END:VEVENT
BEGIN:VEVENT
DTSTART;VALUE=DATE:20250626
DTEND;VALUE=DATE:20250627
DTSTAMP:20260424T090035
CREATED:20250804T091236Z
LAST-MODIFIED:20250804T111638Z
UID:5306-1750896000-1750982399@www.srisharadaschoolmysore.com
SUMMARY:Installation of Interact Club; Good manners week concludes
DESCRIPTION:
URL:https://www.srisharadaschoolmysore.com/event/installation-of-interact-club-good-manners-week-concludes/
CATEGORIES:School Calendar
END:VEVENT
BEGIN:VEVENT
DTSTART;VALUE=DATE:20250623
DTEND;VALUE=DATE:20250624
DTSTAMP:20260424T090035
CREATED:20250804T091236Z
LAST-MODIFIED:20250804T111646Z
UID:5305-1750636800-1750723199@www.srisharadaschoolmysore.com
SUMMARY:Good manners week commences
DESCRIPTION:
URL:https://www.srisharadaschoolmysore.com/event/good-manners-week-commences/
CATEGORIES:School Calendar
END:VEVENT
BEGIN:VEVENT
DTSTART;VALUE=DATE:20250621
DTEND;VALUE=DATE:20250622
DTSTAMP:20260424T090035
CREATED:20250804T091236Z
LAST-MODIFIED:20250804T111652Z
UID:5304-1750464000-1750550399@www.srisharadaschoolmysore.com
SUMMARY:International Yoga Day + CCA-1 (Grades 1-10)
DESCRIPTION:
URL:https://www.srisharadaschoolmysore.com/event/international-yoga-day-cca-1-grades-1-10/
CATEGORIES:School Calendar
END:VEVENT
BEGIN:VEVENT
DTSTART;VALUE=DATE:20250620
DTEND;VALUE=DATE:20250621
DTSTAMP:20260424T090035
CREATED:20250804T091235Z
LAST-MODIFIED:20250804T111705Z
UID:5303-1750377600-1750463999@www.srisharadaschoolmysore.com
SUMMARY:Prep Talents Day
DESCRIPTION:
URL:https://www.srisharadaschoolmysore.com/event/prep-talents-day/
CATEGORIES:School Calendar
END:VEVENT
BEGIN:VEVENT
DTSTART;VALUE=DATE:20250619
DTEND;VALUE=DATE:20250620
DTSTAMP:20260424T090035
CREATED:20250804T091222Z
LAST-MODIFIED:20250804T111711Z
UID:5302-1750291200-1750377599@www.srisharadaschoolmysore.com
SUMMARY:World music day
DESCRIPTION:
URL:https://www.srisharadaschoolmysore.com/event/world-music-day/
CATEGORIES:School Calendar
END:VEVENT
BEGIN:VEVENT
DTSTART;VALUE=DATE:20250618
DTEND;VALUE=DATE:20250619
DTSTAMP:20260424T090035
CREATED:20250804T091222Z
LAST-MODIFIED:20250804T111717Z
UID:5301-1750204800-1750291199@www.srisharadaschoolmysore.com
SUMMARY:Investiture Ceremony
DESCRIPTION:
URL:https://www.srisharadaschoolmysore.com/event/investiture-ceremony/
CATEGORIES:School Calendar
END:VEVENT
BEGIN:VEVENT
DTSTART;VALUE=DATE:20250613
DTEND;VALUE=DATE:20250614
DTSTAMP:20260424T090035
CREATED:20250804T091222Z
LAST-MODIFIED:20250804T111723Z
UID:5300-1749772800-1749859199@www.srisharadaschoolmysore.com
SUMMARY:Talents day(Gr 1)
DESCRIPTION:
URL:https://www.srisharadaschoolmysore.com/event/talents-daygr-1/
CATEGORIES:School Calendar
END:VEVENT
BEGIN:VEVENT
DTSTART;VALUE=DATE:20250607
DTEND;VALUE=DATE:20250608
DTSTAMP:20260424T090035
CREATED:20250804T091222Z
LAST-MODIFIED:20250804T111728Z
UID:5299-1749254400-1749340799@www.srisharadaschoolmysore.com
SUMMARY:Bakrid Holiday
DESCRIPTION:
URL:https://www.srisharadaschoolmysore.com/event/bakrid-holiday/
CATEGORIES:School Calendar
END:VEVENT
BEGIN:VEVENT
DTSTART;VALUE=DATE:20250606
DTEND;VALUE=DATE:20250607
DTSTAMP:20260424T090035
CREATED:20250804T091221Z
LAST-MODIFIED:20250804T111825Z
UID:5298-1749168000-1749254399@www.srisharadaschoolmysore.com
SUMMARY:Aksharabhyasa (Prep section)
DESCRIPTION:
URL:https://www.srisharadaschoolmysore.com/event/aksharabhyasa-prep-section/
CATEGORIES:School Calendar
END:VEVENT
BEGIN:VEVENT
DTSTART;VALUE=DATE:20250605
DTEND;VALUE=DATE:20250606
DTSTAMP:20260424T090035
CREATED:20250804T091206Z
LAST-MODIFIED:20250804T111836Z
UID:5297-1749081600-1749167999@www.srisharadaschoolmysore.com
SUMMARY:World Environment Day
DESCRIPTION:
URL:https://www.srisharadaschoolmysore.com/event/world-environment-day/
CATEGORIES:School Calendar
END:VEVENT
BEGIN:VEVENT
DTSTART;VALUE=DATE:20250602
DTEND;VALUE=DATE:20250603
DTSTAMP:20260424T090035
CREATED:20250804T091206Z
LAST-MODIFIED:20250804T111836Z
UID:5296-1748822400-1748908799@www.srisharadaschoolmysore.com
SUMMARY:School Reopens for Prep
DESCRIPTION:
URL:https://www.srisharadaschoolmysore.com/event/school-reopens-for-prep/
CATEGORIES:School Calendar
END:VEVENT
BEGIN:VEVENT
DTSTART;VALUE=DATE:20250524
DTEND;VALUE=DATE:20250525
DTSTAMP:20260424T090035
CREATED:20250804T090054Z
LAST-MODIFIED:20250804T090054Z
UID:5281-1748044800-1748131199@www.srisharadaschoolmysore.com
SUMMARY:Kindergarten Parent's Orientation Programme
DESCRIPTION:
URL:https://www.srisharadaschoolmysore.com/event/kindergarten-parents-orientation-programme/
CATEGORIES:School Calendar
END:VEVENT
BEGIN:VEVENT
DTSTART;VALUE=DATE:20250521
DTEND;VALUE=DATE:20250522
DTSTAMP:20260424T090035
CREATED:20250804T090002Z
LAST-MODIFIED:20250804T090002Z
UID:5279-1747785600-1747871999@www.srisharadaschoolmysore.com
SUMMARY:School Reopens for Grades 1-9
DESCRIPTION:
URL:https://www.srisharadaschoolmysore.com/event/school-reopens-for-grades-1-9/
CATEGORIES:School Calendar
END:VEVENT
BEGIN:VEVENT
DTSTART;VALUE=DATE:20250519
DTEND;VALUE=DATE:20250520
DTSTAMP:20260424T090035
CREATED:20250804T085929Z
LAST-MODIFIED:20250804T085929Z
UID:5277-1747612800-1747699199@www.srisharadaschoolmysore.com
SUMMARY:Teacher's Orientation Programme (Computer)
DESCRIPTION:
URL:https://www.srisharadaschoolmysore.com/event/teachers-orientation-programme-computer/
CATEGORIES:School Calendar
END:VEVENT
BEGIN:VEVENT
DTSTART;VALUE=DATE:20250517
DTEND;VALUE=DATE:20250518
DTSTAMP:20260424T090035
CREATED:20250804T091202Z
LAST-MODIFIED:20250804T111947Z
UID:5292-1747440000-1747526399@www.srisharadaschoolmysore.com
SUMMARY:Grade -1 Parent's Orientation Programme
DESCRIPTION:
URL:https://www.srisharadaschoolmysore.com/event/grade-1-parents-orientation-programme-2/
CATEGORIES:School Calendar
END:VEVENT
BEGIN:VEVENT
DTSTART;VALUE=DATE:20250515
DTEND;VALUE=DATE:20250516
DTSTAMP:20260424T090035
CREATED:20250804T091202Z
LAST-MODIFIED:20250804T111941Z
UID:5291-1747267200-1747353599@www.srisharadaschoolmysore.com
SUMMARY:Teacher's Orientation Programme (PREP Teachers)
DESCRIPTION:
URL:https://www.srisharadaschoolmysore.com/event/teachers-orientation-programme-prep-teachers-2/
CATEGORIES:School Calendar
END:VEVENT
BEGIN:VEVENT
DTSTART;VALUE=DATE:20250513
DTEND;VALUE=DATE:20250514
DTSTAMP:20260424T090035
CREATED:20250804T085637Z
LAST-MODIFIED:20250804T085637Z
UID:5271-1747094400-1747180799@www.srisharadaschoolmysore.com
SUMMARY:Teacher's Orientation Programme (English\, Science\, Social Studies)
DESCRIPTION:
URL:https://www.srisharadaschoolmysore.com/event/teachers-orientation-programme-english-science-social-studies/
CATEGORIES:School Calendar
END:VEVENT
BEGIN:VEVENT
DTSTART;VALUE=DATE:20250512
DTEND;VALUE=DATE:20250513
DTSTAMP:20260424T090035
CREATED:20250804T091201Z
LAST-MODIFIED:20250804T112048Z
UID:5289-1747008000-1747094399@www.srisharadaschoolmysore.com
SUMMARY:Teacher's Orientation Programme (Mathematics)
DESCRIPTION:
URL:https://www.srisharadaschoolmysore.com/event/teachers-orientation-programme-mathematics-2/
CATEGORIES:School Calendar
END:VEVENT
BEGIN:VEVENT
DTSTART;VALUE=DATE:20250505
DTEND;VALUE=DATE:20250506
DTSTAMP:20260424T090035
CREATED:20250804T085426Z
LAST-MODIFIED:20250804T085426Z
UID:5267-1746403200-1746489599@www.srisharadaschoolmysore.com
SUMMARY:School Reopens for Grade 10
DESCRIPTION:
URL:https://www.srisharadaschoolmysore.com/event/school-reopens-for-grade-10/
CATEGORIES:School Calendar
END:VEVENT
BEGIN:VEVENT
DTSTART;VALUE=DATE:20250407
DTEND;VALUE=DATE:20250408
DTSTAMP:20260424T090035
CREATED:20241218T072856Z
LAST-MODIFIED:20241218T073006Z
UID:3741-1743984000-1744070399@www.srisharadaschoolmysore.com
SUMMARY:Summer vacation commences
DESCRIPTION:
URL:https://www.srisharadaschoolmysore.com/event/summer-vacation-commences/
CATEGORIES:School Calendar
END:VEVENT
BEGIN:VEVENT
DTSTART;VALUE=DATE:20250405
DTEND;VALUE=DATE:20250406
DTSTAMP:20260424T090035
CREATED:20241218T072750Z
LAST-MODIFIED:20241218T073011Z
UID:3738-1743811200-1743897599@www.srisharadaschoolmysore.com
SUMMARY:Annual Examination results announcements (PTM- Pre Kg to Grade IX)
DESCRIPTION:
URL:https://www.srisharadaschoolmysore.com/event/annual-examination-results-announcements-ptm-pre-kg-to-grade-ix/
CATEGORIES:School Calendar
END:VEVENT
BEGIN:VEVENT
DTSTART;VALUE=DATE:20250331
DTEND;VALUE=DATE:20250401
DTSTAMP:20260424T090035
CREATED:20241218T072712Z
LAST-MODIFIED:20241218T073015Z
UID:3736-1743379200-1743465599@www.srisharadaschoolmysore.com
SUMMARY:Ramzan(Holiday)
DESCRIPTION:
URL:https://www.srisharadaschoolmysore.com/event/ramzanholiday/
CATEGORIES:School Calendar
END:VEVENT
END:VCALENDAR